BEGIN:VCALENDAR
VERSION:2.0
PRODID:-//AYPH - ECPv6.15.20//NONSGML v1.0//EN
CALSCALE:GREGORIAN
METHOD:PUBLISH
X-ORIGINAL-URL:https://ayph.ca
X-WR-CALDESC:Events for AYPH
REFRESH-INTERVAL;VALUE=DURATION:PT1H
X-Robots-Tag:noindex
X-PUBLISHED-TTL:PT1H
BEGIN:VTIMEZONE
TZID:America/Whitehorse
BEGIN:DAYLIGHT
TZOFFSETFROM:-0800
TZOFFSETTO:-0700
TZNAME:PDT
DTSTART:20200308T100000
END:DAYLIGHT
BEGIN:STANDARD
TZOFFSETFROM:-0700
TZOFFSETTO:-0700
TZNAME:MST
DTSTART:20201101T070000
END:STANDARD
END:VTIMEZONE
BEGIN:VEVENT
DTSTART;TZID=America/Whitehorse:20210620T230000
DTEND;TZID=America/Whitehorse:20210621T010000
DTSTAMP:20260424T123007
CREATED:20210413T205845Z
LAST-MODIFIED:20210413T210256Z
UID:1223-1624230000-1624237200@ayph.ca
SUMMARY:Midnight Sun Flying Club 2021
DESCRIPTION:This Summer solstice 2021 in Northern Hemisphere will be at 8:31 p.m. on\nSunday\, June 20. To become a member of the Midnight Sun Flying Club\, you must launch before midnight and land the following day.  If you accomplish this\, then contact AYPH to have your name added to the prestigious  list. You also qualify to get a Midnight Sun Flying Club T-Shirt.  Any flight during the June 20th weekend will qualify for the Solstice Award.
URL:https://ayph.ca/event/midnight-sun-flying-club-2021/
LOCATION:BC
CATEGORIES:Paragliding
ATTACH;FMTTYPE=image/jpeg:https://ayph.ca/wp-content/uploads/2021/04/Midnight-Sun-Flying-Club01.jpeg
ORGANIZER;CN="AYPH":MAILTO:info@ayph.ca
END:VEVENT
BEGIN:VEVENT
DTSTART;TZID=America/Whitehorse:20210509T100000
DTEND;TZID=America/Whitehorse:20210509T170000
DTSTAMP:20260424T123007
CREATED:20210415T040429Z
LAST-MODIFIED:20210508T180956Z
UID:1317-1620554400-1620579600@ayph.ca
SUMMARY:Heli-Paragliding in Atlin - Sunday (Cancelled)
DESCRIPTION:Heli-Paragliding in Atlin \nDue to demand\, there will be another slot open on Sunday\, May 9. \nJamie Tait has again offered to give paraglider pilots a ride up to the top of Atlin Mountain for some world-class paragliding.  The Helicopter can take 5 pilots/wings. This is paragliding and this event is weather and ice dependent. This is the latest we have had the event but due to record winter\, we do not anticipate an issue with ice. If weather is not looking good for Saturday\, we will postpone to the Sunday. There will be a base camp at the foot of the mountain in a sheltered area where food and drinks will be available for pilots . \nThere will be a  hot food\, hot chocolate and coffee to take a break after flying at base camp. Multiple rides up are possible. Cost will be $75 Cash per passenger (based on 5 passengers) for each shuttle flight from base. . Pilots can also bring their snow machines and ride across the lake. The races are fun to watch. Bring you binoculars as well as snacks and something to drink. Pilots should be prepared to be self-sufficient for some time if para-waiting ensues. Non pilots are also welcome to take a scenic flight. The cost is the same. There are other events happening in town including activities\, music and fun for all ages. You might want to get accommodation for the night. \nCritical Info: \n\nCell phones do NOT work in Atlin\, but you can reach Jamie or pilots via Airband.\nAir-band 123.2 (uncontrolled frequency)\nYour Yukon medical will NOT cover you in BC. Ensure you have travel insurance or extended coverage.\nIt takes just over two hours to drive from Whitehorse to Atlin\n\nDetails:  \n\nVerify the night before that this is a go – based on Ice and Weather\nDrive to Atlin. Turn left. Go to airport. Look for Hanger with helicopter.\nArrive by 10am at Tundra Helicopters (Jamie Tait Hanger)\nCost is $100 for a single lift (based on 5 pilots).\nShuttle Flights from base of Mountain are $75 (Based on 5 pilots)\nBring CASH – Pay Directly to Jamie Tait.\nFor details: Trevor 867-334-2787 or contact@flyyukon.com\n\nRequirements:  \n\nIntermediate P2 Level or Higher due to the remoteness of and adverse conditions may be faced with.\nTandem flights possible for non-certified pilots. If conditions are favourable\,  may be possible for low level pilots.\nIt is expected pilots will have ability to launch in variable conditions (forward\, reverse).\nHave basic first aid\, food and water in event you land in an isolated area.\nBe prepared to be on the top of a mountain for extended periods. This means clothing\, a drink and snack.\nHave a Radio (Airband recommended\, others can be used so long as it’s coordinated)\nParaglider packed as tightly as possible. No loose items.\nThere is XC Potential. Be prepared to talk to other pilots.\nBe at the Airport in Atlin by 10am. Jamie will give Pilots a ride across lake and up the mountain.\nIf you have a snow machine\, you can also take it across the lake and be picked up at the base.\nWe need 5 persons to make this possible\, but are aiming to have 10 persons (COVID Limit)\nCOVID Restrictions in BC – Up to 10 people can gather outdoors.\nThere are NO Grocery Stores or Restaurants open in Atlin.\n\nHelicopter Pilot\nJamie Tait\nTundra Helicopters\n(250) 651-2444 (hanger)
URL:https://ayph.ca/event/heli-paragliding-in-atlin-sunday/
LOCATION:Tundra Helicopters (Atlin Airport)\, Airport (CYSQ)\, Stikine Region\, BC\, VOW 1AO\, Canada
CATEGORIES:Paragliding
ATTACH;FMTTYPE=image/jpeg:https://ayph.ca/wp-content/uploads/2021/04/IMG_7686-scaled.jpg
ORGANIZER;CN="Trevor Mead-Robins":MAILTO:contact@flyyukon.com
END:VEVENT
BEGIN:VEVENT
DTSTART;TZID=America/Whitehorse:20210508T100000
DTEND;TZID=America/Whitehorse:20210508T170000
DTSTAMP:20260424T123007
CREATED:20210413T171249Z
LAST-MODIFIED:20210508T180758Z
UID:1158-1620468000-1620493200@ayph.ca
SUMMARY:Heli-Paragliding in Atlin - Saturday (Cancelled)
DESCRIPTION:Heli-Paragliding in Atlin \nJamie Tait has again offered to give paraglider pilots a ride up to the top of Atlin Mountain for some world-class paragliding.  The Helicopter can take 5 pilots/wings. This is paragliding and this event is weather and ice dependent. This is the latest we have had the event but due to record winter\, we do not anticipate an issue with ice. If weather is not looking good for Saturday\, we will postpone to the Sunday. There will be a base camp at the foot of the mountain in a sheltered area where food and drinks will be available for pilots . \nThere will be a  hot food\, hot chocolate and coffee to take a break after flying at base camp. Multiple rides up are possible. Cost will be $75 Cash per passenger (based on 5 passengers) for each shuttle flight from base. . Pilots can also bring their snow machines and ride across the lake. The races are fun to watch. Bring you binoculars as well as snacks and something to drink. Pilots should be prepared to be self-sufficient for some time if para-waiting ensues. Non pilots are also welcome to take a scenic flight. The cost is the same. There are other events happening in town including activities\, music and fun for all ages. You might want to get accommodation for the night. \nCritical Info: \n\nCell phones do NOT work in Atlin\, but you can reach Jamie or pilots via Airband.\nAir-band 123.2 (uncontrolled frequency)\nYour Yukon medical will NOT cover you in BC. Ensure you have travel insurance or extended coverage.\nIt takes just over two hours to drive from Whitehorse to Atlin\n\nDetails:  \n\nVerify the night before that this is a go – based on Ice and Weather\nDrive to Atlin. Turn left. Go to airport. Look for Hanger with helicopter.\nArrive by 10am at Tundra Helicopters (Jamie Tait Hanger)\nCost is $100 for a single lift (based on 5 pilots).\nShuttle Flights from base of Mountain are $75 (Based on 5 pilots)\nBring CASH – Pay Directly to Jamie Tait.\nFor details: Trevor 867-334-2787 or contact@flyyukon.com\n\nRequirements:  \n\nIntermediate P2 Level or Higher due to the remoteness of and adverse conditions may be faced with.\nTandem flights possible for non-certified pilots. If conditions are favourable\,  may be possible for low level pilots.\nIt is expected pilots will have ability to launch in variable conditions (forward\, reverse).\nHave basic first aid\, food and water in event you land in an isolated area.\nBe prepared to be on the top of a mountain for extended periods. This means clothing\, a drink and snack.\nHave a Radio (Airband recommended\, others can be used so long as it’s coordinated)\nParaglider packed as tightly as possible. No loose items.\nThere is XC Potential. Be prepared to talk to other pilots.\nBe at the Airport in Atlin by 10am. Jamie will give Pilots a ride across lake and up the mountain.\nIf you have a snow machine\, you can also take it across the lake and be picked up at the base.\nWe need 5 persons to make this possible\, but are aiming to have 10 persons (COVID Limit)\nCOVID Restrictions in BC – Up to 10 people can gather outdoors.\nThere are NO Grocery Stores or Restaurants open in Atlin.\n\nHelicopter Pilot\nJamie Tait\nTundra Helicopters\n(250) 651-2444 (hanger)
URL:https://ayph.ca/event/heli-paragliding-in-atlin/
LOCATION:Tundra Helicopters (Atlin Airport)\, Airport (CYSQ)\, Stikine Region\, BC\, VOW 1AO\, Canada
CATEGORIES:Paragliding
ATTACH;FMTTYPE=image/jpeg:https://ayph.ca/wp-content/uploads/2021/04/IMG_7425-scaled.jpg
ORGANIZER;CN="AYPH":MAILTO:info@ayph.ca
END:VEVENT
END:VCALENDAR